BEGIN:VCALENDAR
VERSION:2.0
PRODID:-//The Thing About Bears - ECPv5.16.0//NONSGML v1.0//EN
CALSCALE:GREGORIAN
METHOD:PUBLISH
X-WR-CALNAME:The Thing About Bears
X-ORIGINAL-URL:https://thethingaboutbears.com
X-WR-CALDESC:Events for The Thing About Bears
BEGIN:VTIMEZONE
TZID:UTC
BEGIN:STANDARD
TZOFFSETFROM:+0000
TZOFFSETTO:+0000
TZNAME:UTC
DTSTART:20130101T000000
END:STANDARD
END:VTIMEZONE
BEGIN:VEVENT
DTSTART;TZID=UTC:20130411T190000
DTEND;TZID=UTC:20130411T220000
DTSTAMP:20260421T161903
CREATED:20130316T100547Z
LAST-MODIFIED:20130316T100547Z
UID:424-1365706800-1365717600@thethingaboutbears.com
SUMMARY:Needle felting class
DESCRIPTION:Needle felting is an art form although it is certainly not very difficult. By using a barbed needle and a bit of wool roving you can create a three dimensional form with no sewing at all. \nIf you would like to come along to a class pop in to the shop Swanstitch in Deal and put your name down or give them a ring on 01304 366915 \nIncludes Tea\, coffee and biscuits. Bring your own needle felting things with you or buy them in the shop when you arrive.
URL:https://thethingaboutbears.com/event/needle-felting-class-6/
LOCATION:Swanstitch\, 82-84 High Street\, Deal\, United Kingdom
ORGANIZER;CN="Sam":MAILTO:sam@thethingaboutbears.com
END:VEVENT
END:VCALENDAR