BEGIN:VCALENDAR
VERSION:2.0
PRODID:-//The Thing About Bears - ECPv5.16.0//NONSGML v1.0//EN
CALSCALE:GREGORIAN
METHOD:PUBLISH
X-WR-CALNAME:The Thing About Bears
X-ORIGINAL-URL:https://thethingaboutbears.com
X-WR-CALDESC:Events for The Thing About Bears
BEGIN:VTIMEZONE
TZID:UTC
BEGIN:STANDARD
TZOFFSETFROM:+0000
TZOFFSETTO:+0000
TZNAME:UTC
DTSTART:20130101T000000
END:STANDARD
END:VTIMEZONE
BEGIN:VEVENT
DTSTART;TZID=UTC:20130525T100000
DTEND;TZID=UTC:20130525T170000
DTSTAMP:20260421T163929
CREATED:20130410T143423Z
LAST-MODIFIED:20130413T172917Z
UID:555-1369476000-1369501200@thethingaboutbears.com
SUMMARY:Mohair bear making workshop
DESCRIPTION:In this class you will learn to make a mohair bear of my design. The bear will already be cut and pinned ready for you to sew\, to enable you to finish by the end of the class\, so you can take your new friend home with you. \nKeep an eye on my blog for pictures of him or her coming soon. \nEverything will be provided for the class but it would be useful if you could bring your own sewing machine\, a small pair of scissor just for cutting thread and if you have one a pokey tool but not essential as I have spares. \nTea coffee and biscuits etc will be provided throughout the day but please bring a packed lunch.
URL:https://thethingaboutbears.com/event/mohair-bear-making-workshop/
LOCATION:Swanstitch\, 82-84 High Street\, Deal\, Kent\, United Kingdom
ORGANIZER;CN="Sam":MAILTO:sam@thethingaboutbears.com
END:VEVENT
END:VCALENDAR