BEGIN:VCALENDAR
VERSION:2.0
PRODID:-//The Thing About Bears - ECPv5.16.0//NONSGML v1.0//EN
CALSCALE:GREGORIAN
METHOD:PUBLISH
X-WR-CALNAME:The Thing About Bears
X-ORIGINAL-URL:https://thethingaboutbears.com
X-WR-CALDESC:Events for The Thing About Bears
BEGIN:VTIMEZONE
TZID:UTC
BEGIN:STANDARD
TZOFFSETFROM:+0000
TZOFFSETTO:+0000
TZNAME:UTC
DTSTART:20130101T000000
END:STANDARD
END:VTIMEZONE
BEGIN:VEVENT
DTSTART;TZID=UTC:20130914T100000
DTEND;TZID=UTC:20130914T170000
DTSTAMP:20260421T113332
CREATED:20130410T144624Z
LAST-MODIFIED:20130414T090437Z
UID:564-1379152800-1379178000@thethingaboutbears.com
SUMMARY:Mohair/needle felted hedgehog
DESCRIPTION:In this class you will learn to make a mohair/needle felted hedgehog of my design. The hedgehog will already be cut and pinned ready for you to sew\, to enable you to finish by the end of the class\, so you can take your prickly little friend home with you. \nAll materials will be provided for the class but it would be useful if you could bring your own sewing machine\, basic needle felting tools including felting needles and foam mat\, a small pair of scissor\, pliers and if you have one a pokey tool but not essential as I have spares. \nTea coffee and biscuits etc will be provided throughout the day but please bring a packed lunch. \n 
URL:https://thethingaboutbears.com/event/564/
LOCATION:Swanstitch\, 82-84 High Street\, Deal\, Kent\, United Kingdom
ORGANIZER;CN="Sam":MAILTO:sam@thethingaboutbears.com
END:VEVENT
END:VCALENDAR